View In:
ArcGIS JavaScript
🌍 EEA Discomap Portal
ArcGIS Earth
Service Description: In this calculation on Carpathian region, the species of interest were selected from the distribution maps from the European Forest Inventory (Brus, et al., 2011), grouped following the spatial distribution provided by (Barbati et al., 2013) and divided by percentage of available forest obtained from the PALSAR-2 forest/ non-forest map (ALOS-2/ALOS, Earth Observation Research Center, JAXA).
More details on the creation of this indicator are available in the final report "ETCULS1835_RegionalCoperation_CarpathiansReport.pdf".
The document "ForestN.docx" available for download provides information about the quality checks performed on the dataset.
References:
Developing a forest naturalness indicator for Europe. Concept and methodology for a high nature value (HNV) forest indicator (EEA Technical report No 13/2014) available on https://www.eea.europa.eu/publications/developing-a-forest-naturalness-indicator.
Name: FISE/naturalness_species_keo_2011
Description:
Single Fused Map Cache: false
Extent:
XMin: 4755216.139146464
YMin: 2295476.7747515626
XMax: 5664216.139146464
YMax: 3120476.7747515626
Spatial Reference: 3035
(3035)
Initial Extent:
XMin: 4755216.139146464
YMin: 2295476.7747515626
XMax: 5664216.139146464
YMax: 3120476.7747515626
Spatial Reference: 3035
(3035)
Full Extent:
XMin: 4755216.139146464
YMin: 2295476.7747515626
XMax: 5664216.139146464
YMax: 3120476.7747515626
Spatial Reference: 3035
(3035)
Pixel Size X: 1000.0
Pixel Size Y: 1000.0
Band Count: 1
Pixel Type: F32
RasterFunction Infos: {"rasterFunctionInfos": [{
"name": "None",
"description": "Make a Raster or Raster Dataset into a Function Raster Dataset.",
"help": ""
}]}
Mensuration Capabilities: Basic
Inspection Capabilities:
Has Histograms: true
Has Colormap: false
Has Multi Dimensions : false
Rendering Rule:
Min Scale: 0
Max Scale: 0
Copyright Text:
Service Data Type: esriImageServiceDataTypeGeneric
Min Values: 0
Max Values: 1
Mean Values: 0.21855938501853
Standard Deviation Values: 0.24462476690202
Object ID Field:
Fields:
None
Default Mosaic Method: Center
Allowed Mosaic Methods:
SortField:
SortValue: null
Mosaic Operator: First
Default Compression Quality: 75
Default Resampling Method: Nearest
Max Record Count: null
Max Image Height: 4100
Max Image Width: 15000
Max Download Image Count: null
Max Mosaic Image Count: null
Allow Raster Function: true
Allow Copy: true
Allow Analysis: true
Allow Compute TiePoints: false
Supports Statistics: false
Supports Advanced Queries: false
Use StandardizedQueries: false
Raster Type Infos:
Name: Raster Dataset
Description: Supports all ArcGIS Raster Datasets
Help:
Has Raster Attribute Table: false
Edit Fields Info: null
Ownership Based AccessControl For Rasters: null
Child Resources:
Info
Histograms
Statistics
Key Properties
Legend
Raster Function Infos
Supported Operations:
Export Image
Identify
Measure
Compute Histograms
Compute Statistics Histograms
Get Samples
Compute Class Statistics
Query Boundary
Compute Pixel Location
Compute Angles
Validate
Project