View In:
ArcGIS JavaScript
EEA Discomap Portal
ArcGIS Earth
Service Description: The indicator on the morphological structure of forests has been obtained with the application of the modelling tool namely GUIDOS toolbox (Vogt, 2013), within the forest coverage of Carpathians area obtained from the PALSAR-2 forest/ non-forest map (ALOS-2/ALOS, Earth Observation Research Center, JAXA).
The resulting map provides with the calculation of a Morphological Spatial Pattern Analysis (MSPA) which determines the geometry and connectivity of the forest areas in the KEO. Several parameters can be calculated using this tool including the core area of forests, the islets within forests, the loop areas within a forest (being the areas that are connected from different sides to the same forest core area), the bridges within forests (being connected to forest core from different places and to different core areas within a forest), the forest perforation being the internal foreground forest perimeter, and the forest edge being the external foreground forest perimeter, and the forest branches being connected to any of the previous morphological parameters but not to the core of a forest.
More details on the creation of this indicator are available in the final report "ETCULS1835_RegionalCoperation_CarpathiansReport.pdf".
The document "ForestFragmentation.docx" also available for download provides additional information on the quality assurance checks performed on the dataset.
References:
Vogt, P. (2013). GUIDOS: tools for the assessment of pattern, connectivity, and fragmentation. Geophysical
Research Abstracts, 15.
Name: FISE/forest_fragm_keo_2015
Description: The indicator on the morphological structure of forests has been obtained with the application of the modelling tool namely GUIDOS toolbox (Vogt, 2013), within the forest coverage of Carpathians area obtained from the PALSAR-2 forest/ non-forest map (ALOS-2/ALOS, Earth Observation Research Center, JAXA).
The resulting map provides with the calculation of a Morphological Spatial Pattern Analysis (MSPA) which determines the geometry and connectivity of the forest areas in the KEO. Several parameters can be calculated using this tool including the core area of forests, the islets within forests, the loop areas within a forest (being the areas that are connected from different sides to the same forest core area), the bridges within forests (being connected to forest core from different places and to different core areas within a forest), the forest perforation being the internal foreground forest perimeter, and the forest edge being the external foreground forest perimeter, and the forest branches being connected to any of the previous morphological parameters but not to the core of a forest.
More details on the creation of this indicator are available in the final report "ETCULS1835_RegionalCoperation_CarpathiansReport.pdf".
The document "ForestFragmentation.docx" also available for download provides additional information on the quality assurance checks performed on the dataset.
References:
Vogt, P. (2013). GUIDOS: tools for the assessment of pattern, connectivity, and fragmentation. Geophysical
Research Abstracts, 15.
Single Fused Map Cache: false
Extent:
XMin: 900000.0
YMin: 900000.0
XMax: 7400000.0
YMax: 5500000.0
Spatial Reference: 3035
(3035)
Initial Extent:
XMin: 900000.0
YMin: 900000.0
XMax: 7400000.0
YMax: 5500000.0
Spatial Reference: 3035
(3035)
Full Extent:
XMin: 900000.0
YMin: 900000.0
XMax: 7400000.0
YMax: 5500000.0
Spatial Reference: 3035
(3035)
Pixel Size X: 100.0
Pixel Size Y: 100.0
Band Count: 1
Pixel Type: U8
RasterFunction Infos: {"rasterFunctionInfos": [{
"help": "",
"name": "None",
"description": ""
}]}
Mensuration Capabilities: Basic
Inspection Capabilities:
Has Histograms: true
Has Colormap: false
Has Multi Dimensions : false
Rendering Rule:
Min Scale: 0
Max Scale: 0
Resampling: false
Copyright Text: Secretariat of Carpathian Convention; Member States of the Carpathian Convention; European Topic Centre Digitalisation and Innovation; European Environment Agency (EEA)
Service Data Type: esriImageServiceDataTypeGeneric
Min Values: 1
Max Values: 8
Mean Values: 3.4124478215368579
Standard Deviation Values: 2.8423053779969987
Object ID Field:
Fields:
None
Default Mosaic Method: Center
Allowed Mosaic Methods:
SortField:
SortValue: N/A
Mosaic Operator: First
Default Compression Quality: 75
Default Resampling Method: Bilinear
Max Record Count: null
Max Image Height: 4100
Max Image Width: 15000
Max Download Image Count: null
Max Mosaic Image Count: null
Allow Raster Function: true
Allow Copy: true
Allow Analysis: true
Allow Compute TiePoints: false
Supports Statistics: false
Supports Advanced Queries: false
Use StandardizedQueries: false
Raster Type Infos:
Name: Raster Dataset
Description: Supports all ArcGIS Raster Datasets
Help:
Has Raster Attribute Table: true
Edit Fields Info: N/A
Ownership Based AccessControl For Rasters: N/A
Child Resources:
Info
Raster Attribute Table
Histograms
Statistics
Key Properties
Legend
Raster Function Infos
Supported Operations:
Export Image
Identify
Measure
Compute Histograms
Compute Statistics Histograms
Get Samples
Compute Class Statistics
Query Boundary
Compute Pixel Location
Compute Angles
Validate
Project