View In:
ArcGIS JavaScript
EEA Discomap Portal
ArcGIS Earth
Service Description: The map shows the 3 years annual average concentration (2019-2021) of PM25
Fine particles, also called PM₂.₅, are the most hazardous air pollutants commonly found in ambient air. They can cause a wide range of negative health impacts and affect several organs in our bodies. The map below shows average concentrations throughout the period 2019-2021, expressed in µg/mᵌ. Higher concentrations (orange to red) are more hazardous than lower concentrations (green), but there is no safe concentration of fine particles.
Name: EnvHealthAtlas/PM25_avg3
Description: The map shows the 3 years annual average concentration (2019-2021) of PM25
Fine particles, also called PM₂.₅, are the most hazardous air pollutants commonly found in ambient air. They can cause a wide range of negative health impacts and affect several organs in our bodies. The map below shows average concentrations throughout the period 2019-2021, expressed in µg/mᵌ. Higher concentrations (orange to red) are more hazardous than lower concentrations (green), but there is no safe concentration of fine particles.
Single Fused Map Cache: false
Extent:
XMin: 2635500.0
YMin: 1385500.0
XMax: 6562500.0
YMax: 5415500.0
Spatial Reference: 3035
(3035)
Initial Extent:
XMin: 2635500.0
YMin: 1385500.0
XMax: 6562500.0
YMax: 5415500.0
Spatial Reference: 3035
(3035)
Full Extent:
XMin: 2635500.0
YMin: 1385500.0
XMax: 6562500.0
YMax: 5415500.0
Spatial Reference: 3035
(3035)
Pixel Size X: 1000.0
Pixel Size Y: 1000.0
Band Count: 1
Pixel Type: F64
RasterFunction Infos: {"rasterFunctionInfos": [
{
"help": "Annual average concentration pm2.5",
"name": "Annual average concentration pm2.5",
"description": "Annual average concentration pm2.5"
},
{
"help": "",
"name": "None",
"description": ""
}
]}
Mensuration Capabilities: Basic
Inspection Capabilities:
Has Histograms: true
Has Colormap: false
Has Multi Dimensions : false
Rendering Rule:
Min Scale: 0
Max Scale: 0
Resampling: false
Copyright Text: © European Environment Agency
Service Data Type: esriImageServiceDataTypeGeneric
Min Values: 0.69999999999999996
Max Values: 37.899999999999999
Mean Values: 7.3023743969564121
Standard Deviation Values: 4.171921525261105
Object ID Field:
Fields:
None
Default Mosaic Method: Center
Allowed Mosaic Methods:
SortField:
SortValue: N/A
Mosaic Operator: First
Default Compression Quality: 75
Default Resampling Method: Nearest
Max Record Count: null
Max Image Height: 4100
Max Image Width: 15000
Max Download Image Count: null
Max Mosaic Image Count: null
Allow Raster Function: true
Allow Copy: true
Allow Analysis: true
Allow Compute TiePoints: false
Supports Statistics: false
Supports Advanced Queries: false
Use StandardizedQueries: false
Raster Type Infos:
Name: Raster Dataset
Description: Supports all ArcGIS Raster Datasets
Help:
Has Raster Attribute Table: false
Edit Fields Info: N/A
Ownership Based AccessControl For Rasters: N/A
Child Resources:
Info
Histograms
Statistics
Key Properties
Legend
Raster Function Infos
Supported Operations:
Export Image
Identify
Measure
Compute Histograms
Compute Statistics Histograms
Get Samples
Compute Class Statistics
Query Boundary
Compute Pixel Location
Compute Angles
Validate
Project