View In:
ArcGIS JavaScript
EEA Discomap Portal
ArcGIS Earth
Service Description: The map shows the 3 years annual average concentration (2019-2021) of O3
At the ground level, ozone (O₃) is a hazardous air pollutant commonly found in our cities. It can negatively affect our health by causing respiratory symptoms and aggravating preexisting conditions — particularly on hot, sunny days when ozone concentrations can peak. The map below shows a measure called SOMO35 for the period 2018-2020; SOMO35 is an indicator that reflects the frequency and intensity of dangerous ozone peaks.
Name: EnvHealthAtlas/O3_avg3
Description: The map shows the 3 years annual average concentration (2019-2021) of O3
At the ground level, ozone (O₃) is a hazardous air pollutant commonly found in our cities. It can negatively affect our health by causing respiratory symptoms and aggravating preexisting conditions — particularly on hot, sunny days when ozone concentrations can peak. The map below shows a measure called SOMO35 for the period 2018-2020; SOMO35 is an indicator that reflects the frequency and intensity of dangerous ozone peaks.
Single Fused Map Cache: false
Extent:
XMin: 2635500.0
YMin: 1385500.0
XMax: 6562500.0
YMax: 5415500.0
Spatial Reference: 3035
(3035)
Initial Extent:
XMin: 2635500.0
YMin: 1385500.0
XMax: 6562500.0
YMax: 5415500.0
Spatial Reference: 3035
(3035)
Full Extent:
XMin: 2635500.0
YMin: 1385500.0
XMax: 6562500.0
YMax: 5415500.0
Spatial Reference: 3035
(3035)
Pixel Size X: 1000.0
Pixel Size Y: 1000.0
Band Count: 1
Pixel Type: F64
RasterFunction Infos: {"rasterFunctionInfos": [
{
"help": "Ozone Annual average concentration",
"name": "Ozone Annual average concentration",
"description": "Ozone Annual average concentration"
},
{
"help": "",
"name": "None",
"description": ""
}
]}
Mensuration Capabilities: Basic
Inspection Capabilities:
Has Histograms: true
Has Colormap: false
Has Multi Dimensions : false
Rendering Rule:
Min Scale: 0
Max Scale: 0
Resampling: false
Copyright Text: © European Environment Agency
Service Data Type: esriImageServiceDataTypeGeneric
Min Values: 984.79999999999995
Max Values: 13232.1
Mean Values: 4514.1161280920214
Standard Deviation Values: 1880.8955720347394
Object ID Field:
Fields:
None
Default Mosaic Method: Center
Allowed Mosaic Methods:
SortField:
SortValue: N/A
Mosaic Operator: First
Default Compression Quality: 75
Default Resampling Method: Nearest
Max Record Count: null
Max Image Height: 4100
Max Image Width: 15000
Max Download Image Count: null
Max Mosaic Image Count: null
Allow Raster Function: true
Allow Copy: true
Allow Analysis: true
Allow Compute TiePoints: false
Supports Statistics: false
Supports Advanced Queries: false
Use StandardizedQueries: false
Raster Type Infos:
Name: Raster Dataset
Description: Supports all ArcGIS Raster Datasets
Help:
Has Raster Attribute Table: false
Edit Fields Info: N/A
Ownership Based AccessControl For Rasters: N/A
Child Resources:
Info
Histograms
Statistics
Key Properties
Legend
Raster Function Infos
Supported Operations:
Export Image
Identify
Measure
Compute Histograms
Compute Statistics Histograms
Get Samples
Compute Class Statistics
Query Boundary
Compute Pixel Location
Compute Angles
Validate
Project