View In:
ArcGIS JavaScript
EEA Discomap Portal
ArcGIS Earth
Service Description: The administrative layer for European countries (EEA38 + UK) is in raster format with a spatial extent adjusted to the latest CLC product (Corine Land Cover 2018 (raster 100m) version 20 accounting layer, Jun. 2019. This dataset is a reference layer for performing spatial analysis and calculating statistics at country level for the European territory as needed by accounting activities such as Land and Ecosystem Accounting (LEAC).
Name: Background/European_Administrative_boundaries_v2020
Description: The administrative layer for European countries (EEA38 + UK) is in raster format with a spatial extent adjusted to the latest CLC product (Corine Land Cover 2018 (raster 100m) version 20 accounting layer, Jun. 2019. This dataset is a reference layer for performing spatial analysis and calculating statistics at country level for the European territory as needed by accounting activities such as Land and Ecosystem Accounting (LEAC).
Single Fused Map Cache: false
Extent:
XMin: -6290123.623699404
YMin: 2788111.0551334918
XMax: 8115876.376300596
YMax: 1.1996911055133492E7
Spatial Reference: 102100
(3857)
LatestVCSWkid(0)
Initial Extent:
XMin: -6290123.623699404
YMin: 2788111.0551334918
XMax: 8115876.376300596
YMax: 1.1996911055133492E7
Spatial Reference: 102100
(3857)
LatestVCSWkid(0)
Full Extent:
XMin: -6290123.623699404
YMin: 2788111.0551334918
XMax: 8115876.376300596
YMax: 1.1996911055133492E7
Spatial Reference: 102100
(3857)
LatestVCSWkid(0)
Pixel Size X: 100.0
Pixel Size Y: 100.0
Band Count: 1
Pixel Type: U16
RasterFunction Infos: {"rasterFunctionInfos": [
{
"name": "ADM_2020_unique2",
"description": "A raster function template.",
"help": ""
},
{
"name": "None",
"description": "",
"help": ""
}
]}
Mensuration Capabilities: Basic
Inspection Capabilities:
Has Histograms: false
Has Colormap: false
Has Multi Dimensions : false
Rendering Rule:
Min Scale: 0
Max Scale: 0
Resampling: false
Copyright Text: EEA, ETC/ULS-UMA
Service Data Type: esriImageServiceDataTypeThematic
Min Values: 0
Max Values: 65535
Mean Values: 1048.8938165445
Standard Deviation Values: 422.86083484713
Object ID Field:
Fields:
None
Default Mosaic Method: Center
Allowed Mosaic Methods:
SortField:
SortValue: null
Mosaic Operator: First
Default Compression Quality: 75
Default Resampling Method: Bilinear
Max Record Count: null
Max Image Height: 4100
Max Image Width: 15000
Max Download Image Count: null
Max Mosaic Image Count: null
Allow Raster Function: true
Allow Copy: true
Allow Analysis: true
Allow Compute TiePoints: false
Supports Statistics: false
Supports Advanced Queries: false
Use StandardizedQueries: false
Raster Type Infos:
Name: Raster Dataset
Description: Supports all ArcGIS Raster Datasets
Help:
Has Raster Attribute Table: true
Edit Fields Info: null
Ownership Based AccessControl For Rasters: null
Child Resources:
Info
Raster Attribute Table
Statistics
Key Properties
Legend
Raster Function Infos
Supported Operations:
Export Image
Identify
Measure
Compute Histograms
Compute Statistics Histograms
Get Samples
Compute Class Statistics
Query Boundary
Compute Pixel Location
Compute Angles
Validate
Project