View In:
ArcGIS JavaScript
EEA Discomap Portal
ArcGIS Earth
Service Description: Nitrogen dioxide (air) 1 year hour exceed 200
Name: AQModelViewer/AQ_8_P1Y_hrsAbove200
Description: Nitrogen dioxide (air) 1 year hour exceed 200
Single Fused Map Cache: false
Extent:
XMin: -5529498.9377999995
YMin: 3091617.114
XMax: 2688901.0622000005
YMax: 7331617.114
Spatial Reference: 102100
(3857)
LatestVCSWkid(0)
Initial Extent:
XMin: -5529498.9377999995
YMin: 3091617.114
XMax: 2688901.0622000005
YMax: 7331617.114
Spatial Reference: 102100
(3857)
LatestVCSWkid(0)
Full Extent:
XMin: -5529498.9377999995
YMin: 3091617.114
XMax: 2688901.0622000005
YMax: 7331617.114
Spatial Reference: 102100
(3857)
LatestVCSWkid(0)
Time Info:
Start Time Field: YEAR
End Time Field: YEAR
Time Extent:
[2019/01/01 00:00:00 UTC, 2025/01/01 00:00:00 UTC]
Time Reference:
N/A
Pixel Size X: 100.0
Pixel Size Y: 100.0
Band Count: 1
Pixel Type: F32
RasterFunction Infos: {"rasterFunctionInfos": [
{
"name": "AQ_8_P1Y_hrsAbove200",
"description": "AQ_8_P1Y_hrsAbove200",
"help": ""
},
{
"name": "Blues continues",
"description": "Blues continues",
"help": ""
},
{
"name": "Oranges continues",
"description": "Oranges continues",
"help": ""
},
{
"name": "Purple to green",
"description": "Purple to green",
"help": ""
},
{
"name": "Red to yellow to green",
"description": "Red to yellow to green",
"help": ""
},
{
"name": "Yellow to orange to brown",
"description": "Yellow to orange to brown",
"help": ""
},
{
"name": "Yellow to red",
"description": "Yellow to red",
"help": ""
},
{
"name": "None",
"description": "Make a Raster or Raster Dataset into a Function Raster Dataset.",
"help": ""
}
]}
Mensuration Capabilities: Basic
Inspection Capabilities:
Has Histograms: true
Has Colormap: false
Has Multi Dimensions : false
Rendering Rule:
Min Scale: 0
Max Scale: 0
Resampling: false
Copyright Text:
Service Data Type: esriImageServiceDataTypeGeneric
Min Values: -3.2821396711568696E-9
Max Values: 112.64167022705078
Mean Values: 15.79061664185751
Standard Deviation Values: 22.798100944455587
Object ID Field: OBJECTID
Fields:
-
OBJECTID
(
type: esriFieldTypeOID, alias: OBJECTID
)
-
Shape
(
type: esriFieldTypeGeometry, alias: Shape
)
-
Name
(
type: esriFieldTypeString, alias: Name, length: 200
)
-
MinPS
(
type: esriFieldTypeDouble, alias: MinPS
)
-
MaxPS
(
type: esriFieldTypeDouble, alias: MaxPS
)
-
LowPS
(
type: esriFieldTypeDouble, alias: LowPS
)
-
HighPS
(
type: esriFieldTypeDouble, alias: HighPS
)
-
Category
(
type: esriFieldTypeInteger, alias: Category
, Coded Values:
[0: Unknown]
, [1: Primary]
, [2: Overview]
, ...6 more...
)
-
Tag
(
type: esriFieldTypeString, alias: Tag, length: 100
)
-
GroupName
(
type: esriFieldTypeString, alias: GroupName, length: 100
)
-
ProductName
(
type: esriFieldTypeString, alias: ProductName, length: 100
)
-
CenterX
(
type: esriFieldTypeDouble, alias: CenterX
)
-
CenterY
(
type: esriFieldTypeDouble, alias: CenterY
)
-
ZOrder
(
type: esriFieldTypeInteger, alias: ZOrder
)
-
Shape_Length
(
type: esriFieldTypeDouble, alias: Shape_Length
)
-
Shape_Area
(
type: esriFieldTypeDouble, alias: Shape_Area
)
-
year
(
type: esriFieldTypeDate, alias: year, length: 8
)
-
pollutant
(
type: esriFieldTypeInteger, alias: pollutant
)
-
agg
(
type: esriFieldTypeString, alias: agg, length: 50
)
-
pollutant_desc
(
type: esriFieldTypeString, alias: pollutant_desc, length: 100
)
-
agg_desc
(
type: esriFieldTypeString, alias: agg_desc, length: 150
)
-
model
(
type: esriFieldTypeString, alias: model, length: 100
)
-
countryCode
(
type: esriFieldTypeString, alias: countryCode, length: 6
)
-
envelope
(
type: esriFieldTypeString, alias: envelope, length: 255
)
Default Mosaic Method: Northwest
Allowed Mosaic Methods: NorthWest,Center,LockRaster,ByAttribute,Nadir,Viewpoint,Seamline,None
SortField:
SortValue: null
Mosaic Operator: First
Default Compression Quality: 80
Default Resampling Method: Bilinear
Max Record Count: 1000
Max Image Height: 4100
Max Image Width: 15000
Max Download Image Count: 20
Max Mosaic Image Count: 20
Allow Raster Function: true
Allow Copy: true
Allow Analysis: true
Allow Compute TiePoints: false
Supports Statistics: true
Supports Advanced Queries: true
Use StandardizedQueries: false
Raster Type Infos:
Name: Raster Dataset
Description: Supports all ArcGIS Raster Datasets
Help:
Has Raster Attribute Table: false
Edit Fields Info: null
Ownership Based AccessControl For Rasters: null
Child Resources:
Info
Histograms
Statistics
Key Properties
Legend
Raster Function Infos
Supported Operations:
Export Image
Query
Identify
Measure
Compute Histograms
Compute Statistics Histograms
Get Samples
Compute Class Statistics
Query GPS Info
Find Images
Image to Map
Map to Image
Measure from Image
Image to Map Multiray
Query Boundary
Compute Pixel Location
Compute Angles
Validate
Project