View In:
ArcGIS JavaScript
EEA Discomap Portal
ArcGIS Earth
Service Description: Ozone (air) Annual mean / 1 calendar year
Name: AQModelViewer/AQ_7_P1Y
Description: Ozone (air) Annual mean / 1 calendar year
Single Fused Map Cache: false
Extent:
XMin: 649806.685800001
YMin: 5984859.905100003
XMax: 1679806.685800001
YMax: 7376859.905100003
Spatial Reference: 102100
(3857)
Initial Extent:
XMin: 649806.685800001
YMin: 5984859.905100003
XMax: 1679806.685800001
YMax: 7376859.905100003
Spatial Reference: 102100
(3857)
Full Extent:
XMin: 649806.685800001
YMin: 5984859.905100003
XMax: 1679806.685800001
YMax: 7376859.905100003
Spatial Reference: 102100
(3857)
Time Info:
Start Time Field: YEAR
End Time Field: YEAR
Time Extent:
[2021/01/01 00:00:00 UTC, 2024/01/01 00:00:00 UTC]
Time Reference:
N/A
Pixel Size X: 100.0
Pixel Size Y: 100.0
Band Count: 1
Pixel Type: F32
RasterFunction Infos: {"rasterFunctionInfos": [
{
"help": "",
"name": "Pollutant Generic",
"description": "Generic raster function for any combination of Pollutant-aggregate. Stretch function is applied based on the statistics of raster values"
},
{
"help": "",
"name": "7_P1Y",
"description": "A raster function template."
},
{
"help": "",
"name": "Blues continues",
"description": "Blues continues represent ozone"
},
{
"help": "",
"name": "Oranges continues",
"description": "Oragnes continues represent NO2"
},
{
"help": "",
"name": "Purple to green",
"description": "purple to green continues"
},
{
"help": "",
"name": "Red to yellow to green",
"description": "red - yellow -green"
},
{
"help": "",
"name": "Yellow to orange to brown",
"description": "yellow orange brown colors"
},
{
"help": "",
"name": "Yellow to red",
"description": "yellow to red"
},
{
"help": "",
"name": "None",
"description": "Make a Raster or Raster Dataset into a Function Raster Dataset."
}
]}
Mensuration Capabilities: Basic
Inspection Capabilities:
Has Histograms: true
Has Colormap: false
Has Multi Dimensions : false
Rendering Rule:
Min Scale: 0
Max Scale: 0
Resampling: false
Copyright Text:
Service Data Type: esriImageServiceDataTypeGeneric
Min Values: 34.065799713134766
Max Values: 75.158203125
Mean Values: 51.305634511827506
Standard Deviation Values: 4.6759485449706641
Object ID Field: OBJECTID
Fields:
-
OBJECTID
(
alias: OBJECTID, type: esriFieldTypeOID
)
-
Shape
(
alias: Shape, type: esriFieldTypeGeometry
)
-
Name
(
length: 200, alias: Name, type: esriFieldTypeString
)
-
MinPS
(
alias: MinPS, type: esriFieldTypeDouble
)
-
MaxPS
(
alias: MaxPS, type: esriFieldTypeDouble
)
-
LowPS
(
alias: LowPS, type: esriFieldTypeDouble
)
-
HighPS
(
alias: HighPS, type: esriFieldTypeDouble
)
-
Category
(
alias: Category, type: esriFieldTypeInteger
, Coded Values:
[0: Unknown]
, [1: Primary]
, [2: Overview]
, ...6 more...
)
-
Tag
(
length: 100, alias: Tag, type: esriFieldTypeString
)
-
GroupName
(
length: 100, alias: GroupName, type: esriFieldTypeString
)
-
ProductName
(
length: 100, alias: ProductName, type: esriFieldTypeString
)
-
CenterX
(
alias: CenterX, type: esriFieldTypeDouble
)
-
CenterY
(
alias: CenterY, type: esriFieldTypeDouble
)
-
ZOrder
(
alias: ZOrder, type: esriFieldTypeInteger
)
-
Shape_Length
(
alias: Shape_Length, type: esriFieldTypeDouble
)
-
Shape_Area
(
alias: Shape_Area, type: esriFieldTypeDouble
)
-
year
(
length: 8, alias: year, type: esriFieldTypeDate
)
-
pollutant
(
alias: pollutant, type: esriFieldTypeInteger
)
-
agg
(
length: 50, alias: agg, type: esriFieldTypeString
)
-
pollutant_desc
(
length: 100, alias: pollutant_desc, type: esriFieldTypeString
)
-
agg_desc
(
length: 150, alias: agg_desc, type: esriFieldTypeString
)
-
model
(
length: 100, alias: model, type: esriFieldTypeString
)
-
countryCode
(
length: 6, alias: countryCode, type: esriFieldTypeString
)
-
envelope
(
length: 255, alias: envelope, type: esriFieldTypeString
)
Default Mosaic Method: Northwest
Allowed Mosaic Methods: NorthWest,Center,LockRaster,ByAttribute,Nadir,Viewpoint,Seamline,None
SortField:
SortValue: N/A
Mosaic Operator: First
Default Compression Quality: 80
Default Resampling Method: Bilinear
Max Record Count: 1000
Max Image Height: 4100
Max Image Width: 15000
Max Download Image Count: 20
Max Mosaic Image Count: 20
Allow Raster Function: true
Allow Copy: true
Allow Analysis: true
Allow Compute TiePoints: false
Supports Statistics: true
Supports Advanced Queries: true
Use StandardizedQueries: false
Raster Type Infos:
Name: Raster Dataset
Description: Supports all ArcGIS Raster Datasets
Help:
Has Raster Attribute Table: false
Edit Fields Info: N/A
Ownership Based AccessControl For Rasters: N/A
Child Resources:
Info
Histograms
Statistics
Key Properties
Legend
Raster Function Infos
Supported Operations:
Export Image
Query
Identify
Measure
Compute Histograms
Compute Statistics Histograms
Get Samples
Compute Class Statistics
Query GPS Info
Find Images
Image to Map
Map to Image
Measure from Image
Image to Map Multiray
Query Boundary
Compute Pixel Location
Compute Angles
Validate
Project