{
 "currentVersion": 11.3,
 "serviceDescription": "The high resolution forest product consists of three types of (status) products and additional change products. The status products are available for the 2012, 2015 and 2018 reference years: 1. Tree cover density providing level of tree cover density in a range from 0-100%; 2. Dominant leaf type providing information on the dominant leaf type: broadleaved or coniferous; 3. A Forest type product. The forest type product allows to get as close as possible to the FAO forest definition. In its original (20m) resolution it consists of two products: 1) a dominant leaf type product that has a MMU of 0.5 ha, as well as a 10% tree cover density threshold applied, and 2) a support layer that maps, based on the dominant leaf type product, trees under agricultural use and in urban context (derived from CLC and high resolution imperviousness 2009 data). For the final 100m product trees under agricultural use and urban context from the support layer are removed. The high resolution forest change products comprise a simple tree cover density change product for 2012-2015 (% increase or decrease of real tree cover density changes).\nThe production of the high resolution forest layers was coordinated by the European Environment Agency (EEA) in the frame of the EU Copernicus programme.",
 "name": "FISE/Copernicus_ForestType_2015_20m_FAO",
 "description": "Copernicus Forest Type 2015 20m",
 "extent": {
  "xmin": 900000,
  "ymin": 900000,
  "xmax": 7400000,
  "ymax": 5500000,
  "spatialReference": {
   "wkid": 3035,
   "latestWkid": 3035
  }
 },
 "initialExtent": {
  "xmin": 900000,
  "ymin": 900000,
  "xmax": 7400000,
  "ymax": 5500000,
  "spatialReference": {
   "wkid": 3035,
   "latestWkid": 3035
  }
 },
 "fullExtent": {
  "xmin": 900000,
  "ymin": 900000,
  "xmax": 7400000,
  "ymax": 5500000,
  "spatialReference": {
   "wkid": 3035,
   "latestWkid": 3035
  }
 },
 "sortableFields": "",
 "bandCount": 1,
 "pixelType": "U16",
 "minValues": [
  0
 ],
 "maxValues": [
  255
 ],
 "meanValues": [
  205.14013000791974
 ],
 "stdvValues": [
  101.01763241293298
 ],
 "hasMultidimensions": false,
 "pixelSizeX": 20,
 "pixelSizeY": 20,
 "meanPixelSize": 20,
 "datasetFormat": "FGDBR",
 "uncompressedSize": 149500000000,
 "blockWidth": 128,
 "blockHeight": 128,
 "compressionType": "LZ77",
 "bandNames": [
  "Band_1"
 ],
 "allowCopy": true,
 "allowAnalysis": true,
 "itemAccess": false,
 "inspectionCapabilities": "",
 "minPixelSize": 0,
 "maxPixelSize": 0,
 "copyrightText": "European Environment Agency (EEA), Copernicus Land Monitoring Service 2015",
 "serviceDataType": "esriImageServiceDataTypeGeneric",
 "serviceSourceType": "esriImageServiceSourceTypeDataset",
 "objectIdField": "",
 "fields": [],
 "capabilities": "Image,Metadata,Mensuration",
 "defaultMosaicMethod": "Center",
 "allowedMosaicMethods": "",
 "sortField": "",
 "sortValue": null,
 "sortAscending": true,
 "mosaicOperator": "First",
 "defaultCompressionQuality": 75,
 "defaultResamplingMethod": "Bilinear",
 "maxImageHeight": 4100,
 "maxImageWidth": 15000,
 "allowRasterFunction": true,
 "rasterFunctionInfos": [
  {
   "name": "ForestType_Copernicus",
   "description": "A raster function template.",
   "help": ""
  },
  {
   "name": "None",
   "description": "",
   "help": ""
  }
 ],
 "rasterTypeInfos": [
  {
   "name": "Raster Dataset",
   "description": "Supports all ArcGIS Raster Datasets",
   "help": ""
  }
 ],
 "mensurationCapabilities": "Basic",
 "hasHistograms": true,
 "hasColormap": false,
 "hasRasterAttributeTable": true,
 "minScale": 0,
 "maxScale": 0,
 "exportTilesAllowed": false,
 "supportsStatistics": false,
 "supportsAdvancedQueries": false,
 "editFieldsInfo": null,
 "ownershipBasedAccessControlForRasters": null,
 "allowComputeTiePoints": false,
 "useStandardizedQueries": false,
 "advancedQueryCapabilities": {
  "useStandardizedQueries": false,
  "supportsStatistics": false,
  "supportsOrderBy": false,
  "supportsDistinct": false,
  "supportsPagination": false
 },
 "spatialReference": {
  "wkid": 3035,
  "latestWkid": 3035
 }
}
