{
 "extent": {
  "ymin": 27.63291674500001,
  "xmin": -31.276249878000002,
  "ymax": 71.141249899961295,
  "xmax": 40.215416522650997,
  "spatialReference": {
   "latestWkid": 4326,
   "wkid": 4326
  }
 },
 "blockWidth": 8579,
 "mosaicOperator": "First",
 "serviceSourceType": "esriImageServiceSourceTypeDataset",
 "hasMultidimensions": false,
 "maxImageWidth": 15000,
 "meanValues": [
  11794.782888476
 ],
 "hasColormap": false,
 "compressionType": "LZW",
 "defaultCompressionQuality": 75,
 "maxValues": [
  231194.84375
 ],
 "hasHistograms": true,
 "datasetFormat": "TIFF",
 "maxImageHeight": 4100,
 "sortField": "",
 "bandNames": [
  "Band_1"
 ],
 "spatialReference": {
  "latestWkid": 4326,
  "wkid": 4326
 },
 "fullExtent": {
  "ymin": 27.63291674500001,
  "xmin": -31.276249878000002,
  "ymax": 71.141249899961295,
  "xmax": 40.215416522650997,
  "spatialReference": {
   "latestWkid": 4326,
   "wkid": 4326
  }
 },
 "bandCount": 1,
 "rasterFunctionInfos": [
  {
   "help": "",
   "name": "Raster Function Template",
   "description": "15breaks"
  },
  {
   "help": "",
   "name": "None",
   "description": ""
  }
 ],
 "supportsStatistics": false,
 "sortableFields": "",
 "minValues": [
  1462.1673583984
 ],
 "allowRasterFunction": true,
 "allowComputeTiePoints": false,
 "serviceDataType": "esriImageServiceDataTypeGeneric",
 "supportsAdvancedQueries": false,
 "currentVersion": 12.1,
 "sortValue": null,
 "objectIdField": "",
 "blockHeight": 1,
 "initialExtent": {
  "ymin": 27.63291674500001,
  "xmin": -31.276249878000002,
  "ymax": 71.141249899961295,
  "xmax": 40.215416522650997,
  "spatialReference": {
   "latestWkid": 4326,
   "wkid": 4326
  }
 },
 "pixelSizeX": 0.0083333333023255622,
 "pixelSizeY": 0.0083333332991689883,
 "defaultMosaicMethod": "Center",
 "name": "EnvHealthAtlas/Europe_disp_inc_2015_tif",
 "allowedMosaicMethods": "",
 "fields": [],
 "allowAnalysis": true,
 "hasRasterAttributeTable": false,
 "useStandardizedQueries": false,
 "description": "",
 "pixelType": "F32",
 "meanPixelSize": 927.66241964981646,
 "exportTilesAllowed": false,
 "editFieldsInfo": null,
 "rasterTypeInfos": [
  {
   "help": "",
   "name": "Raster Dataset",
   "description": "Supports all ArcGIS Raster Datasets"
  }
 ],
 "defaultResamplingMethod": "Nearest",
 "itemAccess": false,
 "minScale": 0,
 "serviceProperties": "Center<\/MosaicMethod>First<\/MosaicOperator>true<\/SortAscending><\/LockImageID><\/TileOrderField>0<\/TileOrderBase>0.000000<\/AvgImageSpacingX>0.000000<\/AvgImageSpacingY>0.0<\/ViewPointX>0.0<\/ViewPointY>0.0<\/ViewPointDefShiftX>0.0<\/ViewPointDefShiftY>None<\/CompressionMethod>75<\/CompressionQuality>0.010000<\/CompressionTolerance>Nearest<\/SamplingMethod><\/ImageServiceProperties><\/ImageServer>",
 "advancedQueryCapabilities": {
  "supportsStatistics": false,
  "supportsSqlExpression": false,
  "supportsOrderBy": false,
  "useStandardizedQueries": false,
  "supportsPagination": false,
  "supportsDistinct": false
 },
 "capabilities": "Mensuration,Image,Metadata",
 "maxScale": 0,
 "stdvValues": [
  5322.8768161674998
 ],
 "allowedFields": "",
 "minPixelSize": 0,
 "resampling": false,
 "noDataValues": [
  -3.3999999521443642E+38
 ],
 "sortAscending": true,
 "inspectionCapabilities": "",
 "maxPixelSize": 0,
 "noDataValue": -3.3999999521443642E+38,
 "allowedCompressions": "None,JPEG,LZ77,LERC",
 "uncompressedSize": 179163836,
 "serviceDescription": "EnvHealthAtlas/Europe_disp_inc_2015_tif",
 "allowCopy": true,
 "copyrightText": "",
 "mensurationCapabilities": "Basic",
 "ownershipBasedAccessControlForRasters": null
}
